BEGIN:VCALENDAR
VERSION:2.0
PRODID:-//Slovenian American Times - ECPv6.15.20//NONSGML v1.0//EN
CALSCALE:GREGORIAN
METHOD:PUBLISH
X-ORIGINAL-URL:https://www.slovenianamericantimes.com
X-WR-CALDESC:Events for Slovenian American Times
REFRESH-INTERVAL;VALUE=DURATION:PT1H
X-Robots-Tag:noindex
X-PUBLISHED-TTL:PT1H
BEGIN:VTIMEZONE
TZID:America/New_York
BEGIN:DAYLIGHT
TZOFFSETFROM:-0500
TZOFFSETTO:-0400
TZNAME:EDT
DTSTART:20250309T070000
END:DAYLIGHT
BEGIN:STANDARD
TZOFFSETFROM:-0400
TZOFFSETTO:-0500
TZNAME:EST
DTSTART:20251102T060000
END:STANDARD
BEGIN:DAYLIGHT
TZOFFSETFROM:-0500
TZOFFSETTO:-0400
TZNAME:EDT
DTSTART:20260308T070000
END:DAYLIGHT
BEGIN:STANDARD
TZOFFSETFROM:-0400
TZOFFSETTO:-0500
TZNAME:EST
DTSTART:20261101T060000
END:STANDARD
BEGIN:DAYLIGHT
TZOFFSETFROM:-0500
TZOFFSETTO:-0400
TZNAME:EDT
DTSTART:20270314T070000
END:DAYLIGHT
BEGIN:STANDARD
TZOFFSETFROM:-0400
TZOFFSETTO:-0500
TZNAME:EST
DTSTART:20271107T060000
END:STANDARD
END:VTIMEZONE
BEGIN:VEVENT
DTSTART;TZID=America/New_York:20260524T100000
DTEND;TZID=America/New_York:20260524T100000
DTSTAMP:20260424T175952
CREATED:20260421T153512Z
LAST-MODIFIED:20260421T154227Z
UID:10868-1779616800-1779616800@www.slovenianamericantimes.com
SUMMARY:St. Vitus Catholic War Veterans Memorial Mass
DESCRIPTION:On Sunday\, May 24\, the St. Vitus Catholic War Veterans will celebrate its annual memorial mass at the 10 a.m. Mass at St. Vitus Church. We’ve been doing this every year for the past 79 years. At the Mass\, every deceased veteran of the parish is remembered\, including the 43 parishioners who died for our country. Some have no one left to remember them. But at least once a year they are remembered at Mass. We invite all to come and celebrate their lives and sacrifices for our country\, and to join us for fellowship following Mass. \nSunday\, May 24 • 10 a.m. • St. Vitus Church \nAll are warmly invited to join this annual tribute and to stay for fellowship following Mass.
URL:https://www.slovenianamericantimes.com/event/st-vitus-veterans-memorial-mass/
LOCATION:St. Vitus Church\, 6019 Lausche Ave\, Cleveland\, OH\, 44103\, United States
CATEGORIES:Cleveland OH,Events
END:VEVENT
END:VCALENDAR