BEGIN:VCALENDAR
VERSION:2.0
PRODID:-//Slovenian American Times - ECPv6.15.20//NONSGML v1.0//EN
CALSCALE:GREGORIAN
METHOD:PUBLISH
X-WR-CALNAME:Slovenian American Times
X-ORIGINAL-URL:https://www.slovenianamericantimes.com
X-WR-CALDESC:Events for Slovenian American Times
REFRESH-INTERVAL;VALUE=DURATION:PT1H
X-Robots-Tag:noindex
X-PUBLISHED-TTL:PT1H
BEGIN:VTIMEZONE
TZID:America/New_York
BEGIN:DAYLIGHT
TZOFFSETFROM:-0500
TZOFFSETTO:-0400
TZNAME:EDT
DTSTART:20240310T070000
END:DAYLIGHT
BEGIN:STANDARD
TZOFFSETFROM:-0400
TZOFFSETTO:-0500
TZNAME:EST
DTSTART:20241103T060000
END:STANDARD
BEGIN:DAYLIGHT
TZOFFSETFROM:-0500
TZOFFSETTO:-0400
TZNAME:EDT
DTSTART:20250309T070000
END:DAYLIGHT
BEGIN:STANDARD
TZOFFSETFROM:-0400
TZOFFSETTO:-0500
TZNAME:EST
DTSTART:20251102T060000
END:STANDARD
BEGIN:DAYLIGHT
TZOFFSETFROM:-0500
TZOFFSETTO:-0400
TZNAME:EDT
DTSTART:20260308T070000
END:DAYLIGHT
BEGIN:STANDARD
TZOFFSETFROM:-0400
TZOFFSETTO:-0500
TZNAME:EST
DTSTART:20261101T060000
END:STANDARD
END:VTIMEZONE
BEGIN:VEVENT
DTSTART;TZID=America/New_York:20251219T190000
DTEND;TZID=America/New_York:20251219T220000
DTSTAMP:20260421T152728
CREATED:20251218T200056Z
LAST-MODIFIED:20251218T200056Z
UID:10470-1766170800-1766181600@www.slovenianamericantimes.com
SUMMARY:Slovene American Club (SAC) Button Box/Accordion Jam Session
DESCRIPTION:Slovene American Club (SAC) Button Box/Accordion jam session—American Legion\, Dearborn
URL:https://www.slovenianamericantimes.com/event/slovene-american-club-sac-button-box-accordion-jam-session/
LOCATION:American Legion Post 364\, 3001 S. Telegraph Rd\, Dearborn\, MI\, 48124\, United States
CATEGORIES:Dearborn MI,Events
END:VEVENT
END:VCALENDAR