BEGIN:VCALENDAR
VERSION:2.0
PRODID:-//Slovenian American Times - ECPv6.15.20//NONSGML v1.0//EN
CALSCALE:GREGORIAN
METHOD:PUBLISH
X-WR-CALNAME:Slovenian American Times
X-ORIGINAL-URL:https://www.slovenianamericantimes.com
X-WR-CALDESC:Events for Slovenian American Times
REFRESH-INTERVAL;VALUE=DURATION:PT1H
X-Robots-Tag:noindex
X-PUBLISHED-TTL:PT1H
BEGIN:VTIMEZONE
TZID:America/New_York
BEGIN:DAYLIGHT
TZOFFSETFROM:-0500
TZOFFSETTO:-0400
TZNAME:EDT
DTSTART:20250309T070000
END:DAYLIGHT
BEGIN:STANDARD
TZOFFSETFROM:-0400
TZOFFSETTO:-0500
TZNAME:EST
DTSTART:20251102T060000
END:STANDARD
BEGIN:DAYLIGHT
TZOFFSETFROM:-0500
TZOFFSETTO:-0400
TZNAME:EDT
DTSTART:20260308T070000
END:DAYLIGHT
BEGIN:STANDARD
TZOFFSETFROM:-0400
TZOFFSETTO:-0500
TZNAME:EST
DTSTART:20261101T060000
END:STANDARD
BEGIN:DAYLIGHT
TZOFFSETFROM:-0500
TZOFFSETTO:-0400
TZNAME:EDT
DTSTART:20270314T070000
END:DAYLIGHT
BEGIN:STANDARD
TZOFFSETFROM:-0400
TZOFFSETTO:-0500
TZNAME:EST
DTSTART:20271107T060000
END:STANDARD
END:VTIMEZONE
BEGIN:VEVENT
DTSTART;TZID=America/New_York:20260523T100000
DTEND;TZID=America/New_York:20260523T100000
DTSTAMP:20260419T162504
CREATED:20260331T142752Z
LAST-MODIFIED:20260331T142752Z
UID:10805-1779530400-1779530400@www.slovenianamericantimes.com
SUMMARY:Čiščenje-Pensioners & Member Spring Cleanup Day 2
DESCRIPTION:May 20 (Wed) Čiščenje-Pensioners & Member Spring Cleanup- (2 days) Help the Pensioners spruce up the grounds of Slovenska Pristava beginning at 10am. There will be a meeting and luncheon to follow at 1pm. \nThere is a second member clean-up day scheduled for Saturday\, May 23rd at 10am.  \nPlease bring blowers\, rakes\, shovels\, and gloves. Contact John Srsen at 440-463-8402 or srsen@sbcglobal.net with any questions. Many Slovenian hands make the work light and help is needed to prepare the grounds for the 2026 season as we celebrate our 65th Anniversary of Slovenska Pristava.
URL:https://www.slovenianamericantimes.com/event/ciscenje-pensioners-member-spring-cleanup-day-2/
LOCATION:Slovenska Pristava\, 1024 Brandt Rd\, Geneva\, OH\, 44041\, United States
CATEGORIES:Cleveland OH,Events
END:VEVENT
BEGIN:VEVENT
DTSTART;TZID=America/New_York:20260524T123000
DTEND;TZID=America/New_York:20260524T123000
DTSTAMP:20260419T162504
CREATED:20260331T135052Z
LAST-MODIFIED:20260331T143409Z
UID:10785-1779625800-1779625800@www.slovenianamericantimes.com
SUMMARY:Opening Day Picnic and Mass at Slovenska Pristava
DESCRIPTION:May 24 (Sun) – Opening Day Picnic and Mass at Slovenska Pristava. Start off the summer with our Opening Day Veselica featuring “Slovenska Hrana Na Žaru”\, or Slovenian-style grilling feast! Mass begins at 12:30pm and will be celebrated by Fr. John Retar. Dinner will follow and includes a variety of grilled meats cooked to perfection along with potato\, coleslaw\, bread\, dessert and coffee. \nDinner is $20 and no reservations are needed. \nThe kitchen will serve its famous hamburgers\, fries and klobase later in the afternoon. \nThe pool will be open (weather permitting). $5 Non-member fee. \nVolunteers are needed. \nIf you have questions or would like to help at this picnic\, contact Andy Ribic andyribic@hotmail.com or 440-539-4751.  All are welcome! Slovenska Pristava is located at 1024 Brandt Rd.\, Harpersfield.  www.slovenskapristava.org
URL:https://www.slovenianamericantimes.com/event/opening-day-picnic-and-mass-at-slovenska-pristava/
LOCATION:Slovenska Pristava\, 1024 Brandt Rd\, Geneva\, OH\, 44041\, United States
CATEGORIES:Cleveland OH,Events
ORGANIZER;CN="Slovenska Pristava":MAILTO:fun@pristava.com
END:VEVENT
BEGIN:VEVENT
DTSTART;TZID=America/New_York:20260527T180000
DTEND;TZID=America/New_York:20260527T203000
DTSTAMP:20260419T162504
CREATED:20260331T142914Z
LAST-MODIFIED:20260331T142914Z
UID:10807-1779904800-1779913800@www.slovenianamericantimes.com
SUMMARY:SNH Monthly Social
DESCRIPTION:Join SNH for our Monthly Socials! \nAdmission is $10 per person and may be paid with cash upon entrance. Doors open at 6:00 p.m. and typically ends around 8:30 p.m. Free parking is available in the attached rear lot. \nAdmission includes a light dinner snack and entry for the main raffle (need not be present to win). Cash bar. 50/50 sideboards are available while supplies last. Live music is played each month and dancing is encouraged – gather together for an evening of connection and community! \nThe socials are hosted monthly and admission for the full year is available. Just speak to a SNH volunteer when you arrive to reserve your spot for the year. \n6417 St. Clair Avenue Cleveland\, Ohio 44103\n6:00 p.m. to 8:30 p.m.
URL:https://www.slovenianamericantimes.com/event/snh-monthly-social/
LOCATION:Slovenian National Home\, 6417 St Clair Ave.\, Cleveland\, Ohio\, 44103\, United States
CATEGORIES:Arts & Culture,Benefit/Fundraiser,Cleveland OH,Events
END:VEVENT
BEGIN:VEVENT
DTSTART;TZID=America/New_York:20260531T133000
DTEND;TZID=America/New_York:20260531T133000
DTSTAMP:20260419T162504
CREATED:20260331T141134Z
LAST-MODIFIED:20260331T175115Z
UID:10796-1780234200-1780234200@www.slovenianamericantimes.com
SUMMARY:Celebrating an Anniversary - Edi Mejac
DESCRIPTION:Edi Mejac has been host and producer of the program “Songs and Melodies from Beautiful Slovenia” for 30 years. The Friends of Slovenianradio.com will celebrate that milestone on Sunday\, May 31\, 2026 on Slovenska Pristava in Harpersfield\, Ohio. \nThe event will begin with Mass at 1:30PM celebrated by Father John Retar. A dinner will be served afterward and a brief cultural program will follow. \nTickets will cost $30.00. More specific details about when and where to make reservations for dinner will follow soon. \nHosted by Friends of Slovenianradio.com \nSlovenska Pristava\n1024 Brandt Road\, Harpersfield\, Ohio
URL:https://www.slovenianamericantimes.com/event/celebrating-edi-mejac/
LOCATION:Slovenska Pristava\, 1024 Brandt Rd\, Geneva\, OH\, 44041\, United States
CATEGORIES:Cleveland OH,Events
ORGANIZER;CN="Slovenska Pristava":MAILTO:fun@pristava.com
END:VEVENT
BEGIN:VEVENT
DTSTART;TZID=America/New_York:20260624T180000
DTEND;TZID=America/New_York:20260624T203000
DTSTAMP:20260419T162504
CREATED:20260331T175429Z
LAST-MODIFIED:20260331T175429Z
UID:10844-1782324000-1782333000@www.slovenianamericantimes.com
SUMMARY:SNH Monthly Social
DESCRIPTION:Join SNH for our Monthly Socials! \nAdmission is $10 per person and may be paid with cash upon entrance. Doors open at 6:00 p.m. and typically ends around 8:30 p.m. Free parking is available in the attached rear lot. \nAdmission includes a light dinner snack and entry for the main raffle (need not be present to win). Cash bar. 50/50 sideboards are available while supplies last. Live music is played each month and dancing is encouraged – gather together for an evening of connection and community! \nThe socials are hosted monthly and admission for the full year is available. Just speak to a SNH volunteer when you arrive to reserve your spot for the year. \n6417 St. Clair Avenue Cleveland\, Ohio 44103\n6:00 p.m. to 8:30 p.m.
URL:https://www.slovenianamericantimes.com/event/snh-monthly-social-3/
LOCATION:Slovenian National Home\, 6417 St Clair Ave.\, Cleveland\, Ohio\, 44103\, United States
CATEGORIES:Arts & Culture,Benefit/Fundraiser,Cleveland OH,Events
END:VEVENT
BEGIN:VEVENT
DTSTART;VALUE=DATE:20260712
DTEND;VALUE=DATE:20260713
DTSTAMP:20260419T162504
CREATED:20260224T162159Z
LAST-MODIFIED:20260224T162159Z
UID:10702-1783814400-1783900799@www.slovenianamericantimes.com
SUMMARY:St. Vitus Annual Parish Summer Picnic
DESCRIPTION:July 12\, 2026 (Sunday). Annual Parish Summer Picnic.  On Slovenska Pristava in Harpersfield\, Ohio. Noon Mass to be followed by a great dinner and then a family filled and orientated day of light foods\, many refreshments\, and the famous “cevapcici” grilled right on site! \nIn addition\, the swimming pool will be open for a nominal charge.\nNo admission or parking fee on that day at SP.\nNet proceeds to benefit the operating and capital needs of the parish. \nAdditional information is forthcoming.
URL:https://www.slovenianamericantimes.com/event/st-vitus-annual-parish-summer-picnic/
LOCATION:Slovenska Pristava\, 1024 Brandt Rd\, Geneva\, OH\, 44041\, United States
CATEGORIES:Cleveland OH,Events
END:VEVENT
BEGIN:VEVENT
DTSTART;TZID=America/New_York:20260729T180000
DTEND;TZID=America/New_York:20260729T203000
DTSTAMP:20260419T162504
CREATED:20260331T143128Z
LAST-MODIFIED:20260331T143128Z
UID:10809-1785348000-1785357000@www.slovenianamericantimes.com
SUMMARY:SNH Monthly Social
DESCRIPTION:Join SNH for our Monthly Socials! \nAdmission is $10 per person and may be paid with cash upon entrance. Doors open at 6:00 p.m. and typically ends around 8:30 p.m. Free parking is available in the attached rear lot. \nAdmission includes a light dinner snack and entry for the main raffle (need not be present to win). Cash bar. 50/50 sideboards are available while supplies last. Live music is played each month and dancing is encouraged – gather together for an evening of connection and community! \nThe socials are hosted monthly and admission for the full year is available. Just speak to a SNH volunteer when you arrive to reserve your spot for the year. \n6417 St. Clair Avenue Cleveland\, Ohio 44103\n6:00 p.m. to 8:30 p.m.
URL:https://www.slovenianamericantimes.com/event/snh-monthly-social-2/
LOCATION:Slovenian National Home\, 6417 St Clair Ave.\, Cleveland\, Ohio\, 44103\, United States
CATEGORIES:Arts & Culture,Benefit/Fundraiser,Cleveland OH,Events
END:VEVENT
END:VCALENDAR