BEGIN:VCALENDAR
VERSION:2.0
PRODID:-//Slovenian American Times - ECPv6.15.20//NONSGML v1.0//EN
CALSCALE:GREGORIAN
METHOD:PUBLISH
X-ORIGINAL-URL:https://www.slovenianamericantimes.com
X-WR-CALDESC:Events for Slovenian American Times
REFRESH-INTERVAL;VALUE=DURATION:PT1H
X-Robots-Tag:noindex
X-PUBLISHED-TTL:PT1H
BEGIN:VTIMEZONE
TZID:America/New_York
BEGIN:DAYLIGHT
TZOFFSETFROM:-0500
TZOFFSETTO:-0400
TZNAME:EDT
DTSTART:20250309T070000
END:DAYLIGHT
BEGIN:STANDARD
TZOFFSETFROM:-0400
TZOFFSETTO:-0500
TZNAME:EST
DTSTART:20251102T060000
END:STANDARD
BEGIN:DAYLIGHT
TZOFFSETFROM:-0500
TZOFFSETTO:-0400
TZNAME:EDT
DTSTART:20260308T070000
END:DAYLIGHT
BEGIN:STANDARD
TZOFFSETFROM:-0400
TZOFFSETTO:-0500
TZNAME:EST
DTSTART:20261101T060000
END:STANDARD
BEGIN:DAYLIGHT
TZOFFSETFROM:-0500
TZOFFSETTO:-0400
TZNAME:EDT
DTSTART:20270314T070000
END:DAYLIGHT
BEGIN:STANDARD
TZOFFSETFROM:-0400
TZOFFSETTO:-0500
TZNAME:EST
DTSTART:20271107T060000
END:STANDARD
END:VTIMEZONE
BEGIN:VEVENT
DTSTART;TZID=America/New_York:20260222T100000
DTEND;TZID=America/New_York:20260222T123000
DTSTAMP:20260419T112519
CREATED:20260203T191042Z
LAST-MODIFIED:20260211T184305Z
UID:10650-1771754400-1771763400@www.slovenianamericantimes.com
SUMMARY:St. Vitus Slovenska Šola Fundraiser Brunch
DESCRIPTION:St. Vitus Slovenska Šola is hosting a brunch fundraiser on February 22 from 10:00 a.m. to 12:30 p.m. in the New Parish Hall. The menu includes french toast\, scrambled eggs\, sausage and bacon\, fresh fruit\, pastries\, coffee\, juice\, and milk. The cost is $16 for adults and $8 for children (12 years and under). 
URL:https://www.slovenianamericantimes.com/event/st-vitus-slovenska-sola-fundraiser-brunch/
LOCATION:St. Vitus Church\, 6019 Lausche Ave\, Cleveland\, OH\, 44103\, United States
CATEGORIES:Benefit/Fundraiser,Cleveland OH
END:VEVENT
END:VCALENDAR