BEGIN:VCALENDAR
VERSION:2.0
PRODID:-//Slovenian American Times - ECPv6.15.20//NONSGML v1.0//EN
CALSCALE:GREGORIAN
METHOD:PUBLISH
X-WR-CALNAME:Slovenian American Times
X-ORIGINAL-URL:https://www.slovenianamericantimes.com
X-WR-CALDESC:Events for Slovenian American Times
REFRESH-INTERVAL;VALUE=DURATION:PT1H
X-Robots-Tag:noindex
X-PUBLISHED-TTL:PT1H
BEGIN:VTIMEZONE
TZID:America/New_York
BEGIN:DAYLIGHT
TZOFFSETFROM:-0500
TZOFFSETTO:-0400
TZNAME:EDT
DTSTART:20250309T070000
END:DAYLIGHT
BEGIN:STANDARD
TZOFFSETFROM:-0400
TZOFFSETTO:-0500
TZNAME:EST
DTSTART:20251102T060000
END:STANDARD
BEGIN:DAYLIGHT
TZOFFSETFROM:-0500
TZOFFSETTO:-0400
TZNAME:EDT
DTSTART:20260308T070000
END:DAYLIGHT
BEGIN:STANDARD
TZOFFSETFROM:-0400
TZOFFSETTO:-0500
TZNAME:EST
DTSTART:20261101T060000
END:STANDARD
BEGIN:DAYLIGHT
TZOFFSETFROM:-0500
TZOFFSETTO:-0400
TZNAME:EDT
DTSTART:20270314T070000
END:DAYLIGHT
BEGIN:STANDARD
TZOFFSETFROM:-0400
TZOFFSETTO:-0500
TZNAME:EST
DTSTART:20271107T060000
END:STANDARD
END:VTIMEZONE
BEGIN:VEVENT
DTSTART;TZID=America/New_York:20260215T140000
DTEND;TZID=America/New_York:20260215T180000
DTSTAMP:20260419T113452
CREATED:20260107T165852Z
LAST-MODIFIED:20260107T165852Z
UID:10612-1771164000-1771178400@www.slovenianamericantimes.com
SUMMARY:Dance and Romance at the Sweetheart Ball
DESCRIPTION:Dance and Romance at the Sweetheart Ball  \nSunday\, February 15\, 2026  \nThe Willoughby Eagles Hall \n37299 Euclid Avenue\nWilloughby\, Ohio. \nWaltz away your winter blues with an afternoon of dancing and romancing as the National Cleveland-Style Polka Hall of Fame presents the annual Sweetheart Ball\, featuring the music of Frank Moravcik and his orchestra at the Willoughby Eagles Hall. \nSwing your sugar to four hours of the finest polkas\, waltzes and pop tunes in a ballroom setting from 2:00 to 6:00. Frank will put you in the mood with his melodies\, plus button box stylings with Linda Hochevar. Sandwiches\, beverages and treats are available. Your Hall of Fame hostess Sharon Staiduhar has surprises in store for lucky couples. You may even go home a winner. \nThe Willoughby Eagles Hall is located at 37299 Euclid Avenue\, just west of downtown Willoughby\, Ohio. For table reservations\, call (440) 679-1420. Advance ticket\, $12 through the Polka Hall of Fame\, 605 East 222nd Street\, Euclid\, Ohio\, next to Euclid City Hall. Open Wednesday and Saturday from 9:00 to 2:00. $15 at the door. 18 and under free. Order by phone\, (216) 261-3263. On-line at PolkaShop@aol.com. \n  \nNational Cleveland-Style Polka Hall of Fame & Museum\n605 East 222nd Street • Euclid\, Ohio 44123\n(216) 261-FAME (3263) • Toll-Free: 1 (866) 66-POLKA • Fax: (216) 261-4134\nPolkaShop@aol.com • www.PolkaFame.com \nAMERICAN SLOVENIAN POLKA FOUNDATION
URL:https://www.slovenianamericantimes.com/event/dance-and-romance-at-the-sweetheart-ball/
LOCATION:Willoughby Eagles Hall\, 37299 Euclid Avenue\, Willoughby\, OH\, United States
CATEGORIES:Cleveland OH,Events
ORGANIZER;CN="National Cleveland-style Polka Hall of Fame":MAILTO:PolkaShop@aol.com
END:VEVENT
END:VCALENDAR